BEGIN:VCALENDAR
VERSION:2.0
PRODID:-//Tukios.com/
BEGIN:VEVENT
UID:d01be4ce-5b9b-41f2-b530-1219054a8896@www.shoshonefuneralservice.com
DTSTAMP:20260421T091041Z
DTSTART:20260620T200000Z
DTEND:20260620T210000Z
SUMMARY:Celebration of Life
DESCRIPTION:
URL:https://www.shoshonefuneralservice.com/obituaries/gerald-nick-hogamier
LOCATION:East Shoshone Park Shoshone Park Rd.  Mullan ID 83846
GEO:47.4680788;-115.7141236
END:VEVENT
END:VCALENDAR